BEGIN:VCALENDAR
VERSION:2.0
PRODID:-//Spectra Logic - ECPv6.15.16//NONSGML v1.0//EN
CALSCALE:GREGORIAN
METHOD:PUBLISH
X-ORIGINAL-URL:https://spectralogic.com
X-WR-CALDESC:Events for Spectra Logic
REFRESH-INTERVAL;VALUE=DURATION:PT1H
X-Robots-Tag:noindex
X-PUBLISHED-TTL:PT1H
BEGIN:VTIMEZONE
TZID:America/New_York
BEGIN:DAYLIGHT
TZOFFSETFROM:-0500
TZOFFSETTO:-0400
TZNAME:EDT
DTSTART:20250309T070000
END:DAYLIGHT
BEGIN:STANDARD
TZOFFSETFROM:-0400
TZOFFSETTO:-0500
TZNAME:EST
DTSTART:20251102T060000
END:STANDARD
BEGIN:DAYLIGHT
TZOFFSETFROM:-0500
TZOFFSETTO:-0400
TZNAME:EDT
DTSTART:20260308T070000
END:DAYLIGHT
BEGIN:STANDARD
TZOFFSETFROM:-0400
TZOFFSETTO:-0500
TZNAME:EST
DTSTART:20261101T060000
END:STANDARD
BEGIN:DAYLIGHT
TZOFFSETFROM:-0500
TZOFFSETTO:-0400
TZNAME:EDT
DTSTART:20270314T070000
END:DAYLIGHT
BEGIN:STANDARD
TZOFFSETFROM:-0400
TZOFFSETTO:-0500
TZNAME:EST
DTSTART:20271107T060000
END:STANDARD
END:VTIMEZONE
BEGIN:VEVENT
DTSTART;TZID=America/New_York:20260325T140000
DTEND;TZID=America/New_York:20260325T150000
DTSTAMP:20260420T004654
CREATED:20260302T212142Z
LAST-MODIFIED:20260313T202056Z
UID:994806-1774447200-1774450800@spectralogic.com
SUMMARY:Webinar: Preserving Today's Research for Tomorrow's Breakthroughs
DESCRIPTION:Join Spectra Logic at GlobusWorld 2026GlobusWorld brings together research computing IT leaders\, users and software developers from universities\, national labs\, federal agencies\, and independent research institutes. The event provides insights into managing research data\, storage and advanced computation at scale\, and is a forum for community building and idea exchange among research computing and data professionals from around the world.  
URL:https://spectralogic.com/event/dana-farber-arcitecta-webinar/
LOCATION:IL
CATEGORIES:High Performance Computing
ATTACH;FMTTYPE=image/png:https://spectralogic.com/wp-content/uploads/Arcitecta-Dana-Farber-and-Spectra-Webinar-March-2026.png
END:VEVENT
BEGIN:VEVENT
DTSTART;TZID=America/New_York:20260331T110000
DTEND;TZID=America/New_York:20260331T120000
DTSTAMP:20260420T004654
CREATED:20260311T213856Z
LAST-MODIFIED:20260402T155258Z
UID:994829-1774954800-1774958400@spectralogic.com
SUMMARY:Webinar: Scaling Research Data: Lessons from the NCSA Archive Strategy
DESCRIPTION:Join Spectra Logic at GlobusWorld 2026GlobusWorld brings together research computing IT leaders\, users and software developers from universities\, national labs\, federal agencies\, and independent research institutes. The event provides insights into managing research data\, storage and advanced computation at scale\, and is a forum for community building and idea exchange among research computing and data professionals from around the world.  
URL:https://spectralogic.com/event/ncsa-webinar/
LOCATION:IL
ATTACH;FMTTYPE=image/png:https://spectralogic.com/wp-content/uploads/NCSA-Webinar-Banner.png
END:VEVENT
END:VCALENDAR